BEGIN:VCALENDAR
VERSION:2.0
PRODID:-//ChamberMaster//Event Calendar 2.0//EN
METHOD:PUBLISH
X-PUBLISHED-TTL:P3D
REFRESH-INTERVAL:P3D
CALSCALE:GREGORIAN
BEGIN:VEVENT
DTSTART:20220416T180000Z
DTEND:20220417T000000Z
X-MICROSOFT-CDO-ALLDAYEVENT:FALSE
SUMMARY:Free Bike Registry Event
DESCRIPTION:Trick Electric Bikes of Hermosa Beach and the Hermosa Beach Police Officers Association (HBPOA) are partnering to help community members register their bicycle's serial numbers through Project 529. HBPOA will have a booth set up in front of Trick Electric Bikes (01 Hermosa Ave.)\n\n			Note: This is not an official City event.
X-ALT-DESC;FMTTYPE=text/html:<blockquote style="color: rgb(34\, 34\, 34)\; font-family: Arial\, Helvetica\, sans-serif\; font-size: small\; font-style: normal\;" type="cite">\n<div dir="ltr">\n<table align="center" border="0" cellpadding="0" cellspacing="0" width="700">\n	<tbody>\n		<tr>\n			<td style="font-family: Roboto\, RobotoDraft\, Helvetica\, Arial\, sans-serif\; margin: 0px\;">\n			<div style="padding: 10px\; border: 1px solid rgb(204\, 204\, 204)\; border-radius: 4px\;">\n			<p>Trick Electric Bikes of Hermosa Beach and the Hermosa Beach Police Officers Association (HBPOA) are partnering to help community members register their bicycle&#39\;s serial numbers through Project 529. HBPOA will have a booth set up in front of Trick Electric Bikes (01 Hermosa Ave.)</p>\n\n			<p>Note: This is not an official City event.</p>\n			</div>\n			</td>\n		</tr>\n	</tbody>\n</table>\n</div>\n</blockquote>\n
LOCATION:Location: Trick Electric Bikes 901 Hermosa Ave Hermosa Beach\, California 90254
UID:e.2438.5510
SEQUENCE:3
DTSTAMP:20260421T092844Z
URL:https://business.hbchamber.net/events/details/free-bike-registry-event-5510
END:VEVENT

END:VCALENDAR
