BEGIN:VCALENDAR
VERSION:2.0
PRODID:-//ChamberMaster//Event Calendar 2.0//EN
METHOD:PUBLISH
X-PUBLISHED-TTL:P3D
REFRESH-INTERVAL:P3D
CALSCALE:GREGORIAN
BEGIN:VEVENT
DTSTART:20241111T203000Z
DTEND:20241111T220000Z
X-MICROSOFT-CDO-ALLDAYEVENT:FALSE
SUMMARY:Footsteps of My Father with Mark Shoemaker
DESCRIPTION:On this Veteran's Day\, in honor of Andrew Jefferson (A.J.) Shoemaker Jr.\, U.S. Navy Chief Pharmacist Mate\, his son Mark is making a photo rich presentation on A.J.'s Pacific tours of duty during WWII.\n\n\n\nMark researched his father's military activity and recently retraced his footsteps in the South Pacific by traveling on a cargo ship throughout the coral atoll island country of Tuvala (Ellice Islands) where he found many WWII remnants.\n\n\n\nThe presentation will cover island life before\, during and after WWII\, including the current struggles with rising sea level due to Climate Change. A.J.'s second tour of duty was on the Fletcher Class Destroyer USS Charles Ausburne where after numerous kamikaze attacks off Okinawa\, celebrated the end of WWII.\n\n\n\nAfterwards\, like so many other Veterans\, A.J. settled in the South Bay\, raised his family\, and enjoyed a career in aerospace.\n\n\n\nThis presentation will follow the 11:00 AM Veterans Day Ceremony hosted by the City of Hermosa Beach. A reception will be held in the Museum afterwards\, followed by this historical presentation.
X-ALT-DESC;FMTTYPE=text/html:On this Veteran&#39\;s Day\, in honor of Andrew Jefferson (A.J.) Shoemaker Jr.\, U.S. Navy Chief Pharmacist Mate\, his son Mark is making a photo rich presentation on A.J.&#39\;s Pacific tours of duty during WWII.<br />\n<br />\nMark researched his father&#39\;s military activity and recently retraced his footsteps in the South Pacific by traveling on a cargo ship throughout the coral atoll island country of Tuvala (Ellice Islands) where he found many WWII remnants.<br />\n<br />\nThe presentation will cover island life before\, during and after WWII\, including the current struggles with rising sea level due to Climate Change. A.J.&#39\;s second tour of duty was on the Fletcher Class Destroyer USS Charles Ausburne where after numerous kamikaze attacks off Okinawa\, celebrated the end of WWII.<br />\n<br />\nAfterwards\, like so many other Veterans\, A.J. settled in the South Bay\, raised his family\, and enjoyed a career in aerospace.<br />\n<br />\nThis presentation will follow the 11:00 AM Veterans Day Ceremony hosted by the City of Hermosa Beach. A reception will be held in the Museum afterwards\, followed by this historical presentation.
LOCATION:Hermosa Beach Museum 710 Pier Ave Hermosa Beach\, CA 90254
UID:e.2438.10701
SEQUENCE:3
DTSTAMP:20260422T192658Z
URL:https://business.hbchamber.net/events/details/footsteps-of-my-father-with-mark-shoemaker-10701
END:VEVENT

END:VCALENDAR
