BEGIN:VCALENDAR
VERSION:2.0
PRODID:-//ChamberMaster//Event Calendar 2.0//EN
METHOD:PUBLISH
X-PUBLISHED-TTL:P3D
REFRESH-INTERVAL:P3D
CALSCALE:GREGORIAN
BEGIN:VEVENT
DTSTART:20250322T010000Z
DTEND:20250322T023000Z
X-MICROSOFT-CDO-ALLDAYEVENT:FALSE
SUMMARY:Food For Thought: Stories of Buddhist Masters
DESCRIPTION:Delicious appetizers and stories of the great Buddhist masters.\n\nBefore they became the ??renowned ?Buddhist ?practitioners we revere and emulate\, they had the same problems we do   maybe worse! Yet\, they were able to gain mastery over their minds and attain the state of enlightenment. \n\n?J?oin us to explore?? their transformational journey?s. Feel? encourage?d ?and inspired and gain confidence that we ourselves can grow and change. ?\n\nLeave ?with a plan for how to put their teachings into practice in our daily lives?. Begin to inspire others as they have.
X-ALT-DESC;FMTTYPE=text/html:<p>Delicious appetizers and stories of the great Buddhist masters.</p>\n\n<p>Before they became the ??renowned ?Buddhist ?practitioners we revere and emulate\, they had the same problems we do &ndash\; maybe worse! Yet\, they were able to gain mastery over their minds and attain the state of enlightenment.&nbsp\;</p>\n\n<p>?J?oin us to explore?? their transformational journey?s.&nbsp\;Feel? encourage?d ?and inspired and gain confidence that we ourselves can grow and change. ?</p>\n\n<p>Leave ?with a plan for how to put their teachings into practice in our daily lives?.&nbsp\;Begin to inspire others as they have.</p>\n
LOCATION:Mahamudra Kadampa Meditation Center 500 6th St Hermosa Beach\, CA 90254
UID:e.2438.11451
SEQUENCE:3
DTSTAMP:20260422T104720Z
URL:https://business.hbchamber.net/events/details/food-for-thought-stories-of-buddhist-masters-11451
END:VEVENT

END:VCALENDAR
