BEGIN:VCALENDAR
VERSION:2.0
PRODID:-//ChamberMaster//Event Calendar 2.0//EN
METHOD:PUBLISH
X-PUBLISHED-TTL:P3D
REFRESH-INTERVAL:P3D
CALSCALE:GREGORIAN
BEGIN:VEVENT
DTSTART:20250412T010000Z
DTEND:20250412T023000Z
X-MICROSOFT-CDO-ALLDAYEVENT:FALSE
SUMMARY:Food For Thought: Loneliness is Not Real
DESCRIPTION:Delicious appetizers\, sangha friends\, and meditation on overcoming loneliness.\n\nBecoming aware of the kindness we encounter every day and throughout our lives is a powerful way to cultivate gratitude and overcome feelings of isolation. As we begin to recognize these acts of kindness\, our minds open\, fostering a sense of connection with others and helping to dissolve loneliness. In this talk\, Kadam Gerry will guide us on how to reflect on the kindness we've received\, allowing us to realize that we are not isolated individuals\, but deeply interconnected with those around us.
X-ALT-DESC;FMTTYPE=text/html:<p>Delicious appetizers\, sangha friends\, and meditation on overcoming loneliness.</p>\n\n<p>Becoming aware of the kindness we encounter every day and throughout our lives is a powerful way to cultivate gratitude and overcome feelings of isolation. As we begin to recognize these acts of kindness\, our minds open\, fostering a sense of connection with others and helping to dissolve loneliness. In this talk\, Kadam Gerry will guide us on how to reflect on the kindness we&rsquo\;ve received\, allowing us to realize that we are not isolated individuals\, but deeply interconnected with those around us.&nbsp\;</p>\n
LOCATION:Mahamudra Kadampa Meditation Center 500 6th St Hermosa Beach\, CA 90254
UID:e.2438.11476
SEQUENCE:3
DTSTAMP:20260422T210601Z
URL:https://business.hbchamber.net/events/details/food-for-thought-loneliness-is-not-real-11476
END:VEVENT

END:VCALENDAR
