BEGIN:VCALENDAR
VERSION:2.0
PRODID:-//ChamberMaster//Event Calendar 2.0//EN
METHOD:PUBLISH
X-PUBLISHED-TTL:P3D
REFRESH-INTERVAL:P3D
CALSCALE:GREGORIAN
BEGIN:VEVENT
DTSTART:20250503T010000Z
DTEND:20250503T023000Z
X-MICROSOFT-CDO-ALLDAYEVENT:FALSE
SUMMARY:Food for Thought: Detox the Mind
DESCRIPTION:Feeling mentally cluttered or overwhelmed? Let go of the noise and reconnect with your inner peace.\n\nJoin us for an evening of guided meditation and practical teachings designed to help you release negative thoughts and create space for clarity and positivity.\n\nEnjoy nourishing food\, refreshing mocktails\, and uplifting\, practical advice you can start applying right away.
X-ALT-DESC;FMTTYPE=text/html:<p>Feeling mentally cluttered or overwhelmed? Let go of the noise and&nbsp\;reconnect with your inner peace.</p>\n\n<p>Join us for an evening of guided meditation and practical teachings designed to help you release negative thoughts and&nbsp\;create space for clarity and positivity.</p>\n\n<p>Enjoy nourishing food\, refreshing mocktails\, and uplifting\, practical advice you can start applying right away.</p>\n
LOCATION:Mahamudra Kadampa Meditation Center 500 6th St Hermosa Beach\, CA 90254
UID:e.2438.11524
SEQUENCE:3
DTSTAMP:20260422T224824Z
URL:https://business.hbchamber.net/events/details/food-for-thought-detox-the-mind-11524
END:VEVENT

END:VCALENDAR
