BEGIN:VCALENDAR
VERSION:2.0
PRODID:-//ChamberMaster//Event Calendar 2.0//EN
METHOD:PUBLISH
X-PUBLISHED-TTL:P3D
REFRESH-INTERVAL:P3D
CALSCALE:GREGORIAN
BEGIN:VEVENT
DTSTART:20241221T020000Z
DTEND:20241221T033000Z
X-MICROSOFT-CDO-ALLDAYEVENT:FALSE
SUMMARY:Food For Thought: Choose Love
DESCRIPTION:Vegetarian potluck and a special discussion on choosing love. In the talk\, we'll learn how opening our hearts to others with love and compassion reduces our painful feelings\, and brings us lasting inner peace. Please bring a vegetarian dish to share if you wish.
X-ALT-DESC;FMTTYPE=text/html:Vegetarian potluck and a special discussion on choosing love. In the talk\, we&#39\;ll learn how opening our hearts to others with love and compassion reduces our painful feelings\, and brings us lasting inner peace. Please bring a vegetarian dish to share if you wish.
LOCATION:Mahamudra Kadampa Meditation Center 500 6th St Hermosa Beach\, CA 90254
UID:e.2438.11044
SEQUENCE:3
DTSTAMP:20260420T211732Z
URL:https://business.hbchamber.net/events/details/food-for-thought-choose-love-11044
END:VEVENT

END:VCALENDAR
