BEGIN:VCALENDAR
VERSION:2.0
PRODID:-//ChamberMaster//Event Calendar 2.0//EN
METHOD:PUBLISH
X-PUBLISHED-TTL:P3D
REFRESH-INTERVAL:P3D
CALSCALE:GREGORIAN
BEGIN:VEVENT
DTSTART;VALUE=DATE:20220405
DTEND;VALUE=DATE:20220406
TRANSP:TRANSPARENT
X-MICROSOFT-CDO-ALLDAYEVENT:TRUE
SUMMARY:Flight Night @ The Brews Hall
DESCRIPTION:Flight Night with our Brewmaster on the 1st Tuesday of every month. Take your beer smarts to new heights! Join every first Tuesday of the month at The Brews Hall at 7PM for $10 flights and tasting and education with our local brewmaster!
X-ALT-DESC;FMTTYPE=text/html:<span style="color: rgb(34\, 34\, 34)\; font-family: Arial\, Helvetica\, sans-serif\; font-size: small\;">Flight Night with our Brewmaster on the 1st Tuesday of every month. Take your beer smarts to new heights! Join every first Tuesday of the month at The Brews Hall at 7PM for $10 flights and tasting and education with our local brewmaster!</span>
LOCATION:The Brews Hall 73 Pier Ave. Hermosa Beach
UID:e.2438.5307
SEQUENCE:3
DTSTAMP:20260421T091251Z
URL:https://business.hbchamber.net/events/details/flight-night-the-brews-hall-5307
END:VEVENT

END:VCALENDAR
