BEGIN:VCALENDAR
VERSION:2.0
PRODID:-//ChamberMaster//Event Calendar 2.0//EN
METHOD:PUBLISH
X-PUBLISHED-TTL:P3D
REFRESH-INTERVAL:P3D
CALSCALE:GREGORIAN
BEGIN:VEVENT
DTSTART:20220428T180000Z
DTEND:20220428T190000Z
X-MICROSOFT-CDO-ALLDAYEVENT:FALSE
SUMMARY:Fiesta Hermosa Business Meeting
DESCRIPTION:The Fiesta Hermosa Business Owners meeting is for all business owners to get information regarding Fiesta\, the layout\, its details\, as well as get the opportunity to ask questions. Please RSVP.
X-ALT-DESC;FMTTYPE=text/html:The Fiesta Hermosa Business Owners meeting is for all business owners to get information regarding Fiesta\, the layout\, its details\, as well as get the opportunity to ask questions. Please RSVP.
LOCATION:VIRTUAL MEETING https://us02web.zoom.us/j/89100145681?pwd=OCtEdzVsTHpoVUtFWmc5NFNQL2l0dz09 Meeting ID: 891 0014 5681 Passcode: 146348 One tap mobile +16699006833\,\,89100145681#\,\,\,\,*146348# US (San Jose) +13462487799\,\,89100145681#\,\,\,\,*146348# US (Houston)
UID:e.2438.5516
SEQUENCE:3
DTSTAMP:20260421T093215Z
URL:https://business.hbchamber.net/events/details/fiesta-hermosa-chamber-member-meeting-5516
END:VEVENT

END:VCALENDAR
