BEGIN:VCALENDAR
VERSION:2.0
PRODID:-//ChamberMaster//Event Calendar 2.0//EN
METHOD:PUBLISH
X-PUBLISHED-TTL:P3D
REFRESH-INTERVAL:P3D
CALSCALE:GREGORIAN
BEGIN:VEVENT
DTSTART;VALUE=DATE:20250524
DTEND;VALUE=DATE:20250527
TRANSP:TRANSPARENT
X-MICROSOFT-CDO-ALLDAYEVENT:TRUE
SUMMARY:Fiesta Hermosa
DESCRIPTION:For 52 years\, Fiesta has been filling Hermosa's streets with art\, music\, and fun. Fiesta de las Artes\, as it was originally named\, celebrated artisan culture and welcomed visitors from all around to the beach to shop and enjoy the art. For more than a decade\, Fiesta has been known as Southern California's largest beachside arts and craft festival. But we in Hermosa like to think of Fiesta simply as a treasured tradition.
X-ALT-DESC;FMTTYPE=text/html:For 52 years\, Fiesta has been filling Hermosa&rsquo\;s streets with art\, music\, and fun. Fiesta de las Artes\, as it was originally named\, celebrated artisan culture and welcomed visitors from all around to the beach to shop and enjoy the art. For more than a decade\, Fiesta has been known as Southern California&rsquo\;s largest beachside arts and craft festival. But we in Hermosa like to think of Fiesta simply as a treasured tradition.
LOCATION:Downtown Hermosa Beach
UID:e.2438.11386
SEQUENCE:3
DTSTAMP:20260422T224532Z
URL:https://business.hbchamber.net/events/details/fiesta-hermosa-11386
END:VEVENT

END:VCALENDAR
