BEGIN:VCALENDAR
VERSION:2.0
PRODID:-//ChamberMaster//Event Calendar 2.0//EN
METHOD:PUBLISH
X-PUBLISHED-TTL:P3D
REFRESH-INTERVAL:P3D
CALSCALE:GREGORIAN
BEGIN:VEVENT
DTSTART:20220201T180000Z
DTEND:20220201T185000Z
X-MICROSOFT-CDO-ALLDAYEVENT:FALSE
SUMMARY:Families Connected Parent Chat: Raising Resilient Kids
DESCRIPTION:For the month of February\, our virtual Parent Chat will be a four-part series on raising resilient and self-confident kids. As always\, attendees will access professional insight from Dr. Moe Gelbart as well as share their challenges with one another in this confidential and supportive space. For details and the zoom link\, the SBFC virtual event calendar.\n\n\n\nThe Parent Chat is provided in partnership with @beachcitieshealth and @thelmamcmillen and is available free of charge to all South Bay parents and caregivers every Tuesday at 10:00 a.m.\n\n\n\nPart 1: February 1\n\nPart 2: February 8\n\nPart 3: February 15\n\nPart 4: February 22
X-ALT-DESC;FMTTYPE=text/html:<span style="color: rgb(38\, 38\, 38)\; font-family: -apple-system\, &quot\;system-ui&quot\;\, &quot\;Segoe UI&quot\;\, Roboto\, Helvetica\, Arial\, sans-serif\; font-size: 14px\;">For the month of February\, our virtual Parent Chat will be a four-part series on raising resilient and self-confident kids. As always\, attendees will access professional insight from Dr. Moe Gelbart as well as share their challenges with one another in this confidential and supportive space. For details and the zoom link\, the SBFC virtual event calendar.</span><br style="color: rgb(38\, 38\, 38)\; font-family: -apple-system\, &quot\;system-ui&quot\;\, &quot\;Segoe UI&quot\;\, Roboto\, Helvetica\, Arial\, sans-serif\; font-size: 14px\;" />\n<br style="color: rgb(38\, 38\, 38)\; font-family: -apple-system\, &quot\;system-ui&quot\;\, &quot\;Segoe UI&quot\;\, Roboto\, Helvetica\, Arial\, sans-serif\; font-size: 14px\;" />\n<span style="color: rgb(38\, 38\, 38)\; font-family: -apple-system\, &quot\;system-ui&quot\;\, &quot\;Segoe UI&quot\;\, Roboto\, Helvetica\, Arial\, sans-serif\; font-size: 14px\;">The Parent Chat is provided in partnership with&nbsp\;</span><a class="notranslate" href="https://www.instagram.com/beachcitieshealth/" style="margin: 0px\; padding: 0px\; border: 0px\; font-variant-numeric: inherit\; font-variant-east-asian: inherit\; font-stretch: inherit\; font-size: 14px\; line-height: inherit\; font-family: -apple-system\, &quot\;system-ui&quot\;\, &quot\;Segoe UI&quot\;\, Roboto\, Helvetica\, Arial\, sans-serif\; vertical-align: baseline\; color: rgba(var(--fe0\,0\,55\,107)\,1)\; text-decoration-line: none\;" tabindex="0">@beachcitieshealth</a><span style="color: rgb(38\, 38\, 38)\; font-family: -apple-system\, &quot\;system-ui&quot\;\, &quot\;Segoe UI&quot\;\, Roboto\, Helvetica\, Arial\, sans-serif\; font-size: 14px\;">&nbsp\;and&nbsp\;</span><a class="notranslate" href="https://www.instagram.com/thelmamcmillen/" style="margin: 0px\; padding: 0px\; border: 0px\; font-variant-numeric: inherit\; font-variant-east-asian: inherit\; font-stretch: inherit\; font-size: 14px\; line-height: inherit\; font-family: -apple-system\, &quot\;system-ui&quot\;\, &quot\;Segoe UI&quot\;\, Roboto\, Helvetica\, Arial\, sans-serif\; vertical-align: baseline\; color: rgba(var(--fe0\,0\,55\,107)\,1)\; text-decoration-line: none\;" tabindex="0">@thelmamcmillen</a><span style="color: rgb(38\, 38\, 38)\; font-family: -apple-system\, &quot\;system-ui&quot\;\, &quot\;Segoe UI&quot\;\, Roboto\, Helvetica\, Arial\, sans-serif\; font-size: 14px\;">&nbsp\;and is available free of charge to all South Bay parents and caregivers every Tuesday at 10:00 a.m.<br />\n<br />\nPart 1: February 1<br />\nPart 2:&nbsp\;February 8<br />\nPart 3:&nbsp\;February 15<br />\nPart 4:&nbsp\;February 22</span>
LOCATION:Virtual - REGISTER HERE
UID:e.2438.5123
SEQUENCE:3
DTSTAMP:20260421T134412Z
URL:https://business.hbchamber.net/events/details/families-connected-parent-chat-raising-resilient-kids-5123
END:VEVENT

END:VCALENDAR
