BEGIN:VCALENDAR
VERSION:2.0
PRODID:-//ChamberMaster//Event Calendar 2.0//EN
METHOD:PUBLISH
X-PUBLISHED-TTL:P3D
REFRESH-INTERVAL:P3D
CALSCALE:GREGORIAN
BEGIN:VEVENT
DTSTART:20260305T020000Z
DTEND:20260305T030000Z
X-MICROSOFT-CDO-ALLDAYEVENT:FALSE
SUMMARY:Explore the World of Whales
DESCRIPTION:Explore the World of Whales Through the Lens of a Global Expedition Photographer\, Kirill Umrikhin. Roundhouse Aquarium invites you to a free public lecture featuring the work of global expedition photographer Kirill Umrikhin. Travel through oceans around the world as we explore whale species\, the challenges they face\, and how powerful visual storytelling can inspire conservation and public awareness. This evening is designed for ocean lovers of all ages.
X-ALT-DESC;FMTTYPE=text/html:Explore the World of Whales Through the Lens of a Global Expedition Photographer\, Kirill Umrikhin. Roundhouse Aquarium invites you to a free public lecture featuring the work of global expedition photographer Kirill Umrikhin. Travel through oceans around the world as we explore whale species\, the challenges they face\, and how powerful visual storytelling can inspire conservation and public awareness. This evening is designed for ocean lovers of all ages.
LOCATION:Manhattan Beach Library\, located at 1320 Highland Avenue
UID:e.2438.15281
SEQUENCE:3
DTSTAMP:20260421T173837Z
URL:https://business.hbchamber.net/events/details/explore-the-world-of-whales-15281
END:VEVENT

END:VCALENDAR
