BEGIN:VCALENDAR
VERSION:2.0
PRODID:-//ChamberMaster//Event Calendar 2.0//EN
METHOD:PUBLISH
X-PUBLISHED-TTL:P3D
REFRESH-INTERVAL:P3D
CALSCALE:GREGORIAN
BEGIN:VEVENT
DTSTART:20250201T023000Z
DTEND:20250201T040000Z
X-MICROSOFT-CDO-ALLDAYEVENT:FALSE
SUMMARY:Exhibit Opening - The Drill's Path: A Timeline of Oil Drilling in Hermosa Beach
DESCRIPTION:Join us at the Hermosa Beach Museum for the opening of our first rotating exhibit of the new year\, The Drill's Path: A Timeline of Oil Drilling in Hermosa Beach.
X-ALT-DESC;FMTTYPE=text/html:Join us at the Hermosa Beach Museum for the opening of our first rotating exhibit of the new year\, <em>The Drill&#39\;s Path: A Timeline of Oil Drilling in Hermosa Beach</em>.
LOCATION:Hermosa Beach Museum 710 Pier Ave Hermosa Beach\, CA 90254
UID:e.2438.11109
SEQUENCE:3
DTSTAMP:20260420T200510Z
URL:https://business.hbchamber.net/events/details/exhibit-opening-the-drill-s-path-a-timeline-of-oil-drilling-in-hermosa-beach-11109
END:VEVENT

END:VCALENDAR
