BEGIN:VCALENDAR
VERSION:2.0
PRODID:-//ChamberMaster//Event Calendar 2.0//EN
METHOD:PUBLISH
X-PUBLISHED-TTL:P3D
REFRESH-INTERVAL:P3D
CALSCALE:GREGORIAN
BEGIN:VEVENT
DTSTART:20250412T010000Z
DTEND:20250412T030000Z
X-MICROSOFT-CDO-ALLDAYEVENT:FALSE
SUMMARY:Exhibit Opening at the Hermosa Beach Museum
DESCRIPTION:The Hermosa Beach Museum is proud to announce our upcoming Spring rotating exhibit\, The HBFD: A Story of Innovation\, Courage and Community.  Doors will open at 6PM with a brief presentation from our Director & Curator Jamie Erickson at 6:30 PM.\n\n_____\n\n\n\nSince their inception as a group of unpaid volunteers in 1907\, the Hermosa Beach Fire Department was steadfastly dedicated to the safety and well-being of this community. Through the years\, the department evolved with advancements in equipment\, training\, and ultimately a transition to LA County Fire. The core values of bravery\, service\, and resilience have remained unchanged.\n\n\n\nThis exhibit brings you face-to-face with the history\, challenges\, and triumphs of the Hermosa Beach Fire Department.\n\n\n\nExplore the stories and heroic acts that have shaped the department's legacy. We honor the historic hometown heroes who stood ready to protect their community at all hours of the day or night\, never asking for recognition but always answering the call.
X-ALT-DESC;FMTTYPE=text/html:The Hermosa Beach Museum is proud to announce our upcoming Spring rotating exhibit\, The HBFD: A Story of Innovation\, Courage and Community.&#8203\; Doors will open at 6PM with a brief presentation from our Director &amp\; Curator Jamie Erickson at 6:30 PM.<br />\n_____<br />\n<br />\nSince their inception as a group of unpaid volunteers in 1907\, the Hermosa Beach Fire Department was steadfastly dedicated to the safety and well-being of this community. Through the years\, the department evolved with advancements in equipment\, training\, and ultimately a transition to LA County Fire. The core values of bravery\, service\, and resilience have remained unchanged.<br />\n<br />\nThis exhibit brings you face-to-face with the history\, challenges\, and triumphs of the Hermosa Beach Fire Department.<br />\n<br />\nExplore the stories and heroic acts that have shaped the department&#39\;s legacy. We honor the historic hometown heroes who stood ready to protect their community at all hours of the day or night\, never asking for recognition but always answering the call.
LOCATION:Hermosa Beach Museum 710 Pier Ave Hermosa Beach\, CA 90254
UID:e.2438.11523
SEQUENCE:3
DTSTAMP:20260422T211615Z
URL:https://business.hbchamber.net/events/details/exhibit-opening-at-the-hermosa-beach-museum-11523
END:VEVENT

END:VCALENDAR
