BEGIN:VCALENDAR
VERSION:2.0
PRODID:-//ChamberMaster//Event Calendar 2.0//EN
METHOD:PUBLISH
X-PUBLISHED-TTL:P3D
REFRESH-INTERVAL:P3D
CALSCALE:GREGORIAN
BEGIN:VEVENT
DTSTART:20250127T003000Z
DTEND:20250127T060000Z
X-MICROSOFT-CDO-ALLDAYEVENT:FALSE
SUMMARY:Excursion: Wicked at the Pantages Theatre
DESCRIPTION:WICKED\, the Broadway sensation\, looks at what happened in the Land of Oz but from a different angle. Long before Dorothy arrives\, there is another young woman\, born with emerald-green skin smart\, fiery\, misunderstood\, and possessing an extraordinary talent. When she meets a bubbly blonde who is exceptionally popular\, their initial rivalry turns into the unlikeliest of friendships until the world decides to call one "good\," and the other one "wicked."\n\nFrom the first electrifying note to the final breathtaking moment\, WICKED the untold true story of the Witches of Oz transfixes audiences with its wildly inventive story. "If every musical had the brains\, heart and courage of WICKED\, Broadway really would be a magical place". (Time Magazine)
X-ALT-DESC;FMTTYPE=text/html:<em>WICKED</em>\, the Broadway sensation\, looks at what happened in the Land of Oz&hellip\;but from a different angle. Long before Dorothy arrives\, there is another young woman\, born with emerald-green skin&mdash\;smart\, fiery\, misunderstood\, and possessing an extraordinary talent. When she meets a bubbly blonde who is exceptionally popular\, their initial rivalry turns into the unlikeliest of friendships&hellip\;until the world decides to call one &ldquo\;good\,&rdquo\; and the other one &ldquo\;wicked.&rdquo\;<br />\nFrom the first electrifying note to the final breathtaking moment\, <em>WICKED</em>&mdash\;the untold true story of the Witches of Oz&mdash\;transfixes audiences with its wildly inventive story. &ldquo\;If every musical had the brains\, heart and courage of <em>WICKED</em>\, Broadway really would be a magical place&rdquo\;. (Time Magazine)
LOCATION:Community Center 710 Pier Avenue Hermosa Beach\, CA 90254
UID:e.2438.10647
SEQUENCE:3
DTSTAMP:20260420T183638Z
URL:https://business.hbchamber.net/events/details/excursion-wicked-at-the-pantages-theatre-10647
END:VEVENT

END:VCALENDAR
