BEGIN:VCALENDAR
VERSION:2.0
PRODID:-//ChamberMaster//Event Calendar 2.0//EN
METHOD:PUBLISH
X-PUBLISHED-TTL:P3D
REFRESH-INTERVAL:P3D
CALSCALE:GREGORIAN
BEGIN:VEVENT
DTSTART:20250518T160000Z
DTEND:20250519T000000Z
X-MICROSOFT-CDO-ALLDAYEVENT:FALSE
SUMMARY:Excursion: Strawberry Festival in Ventura
DESCRIPTION:Join us for a drive up the coast to the Strawberry Festival in Ventura. This event is the ultimate summer kickoff while supporting the community in a BIG way. Indulge in your favorite strawberry treats like build-your-own shortcakes\, chocolate-covered delights\, and refreshing strawberry beer. With over 40 food vendors\, live music\, and a plethora of arts and crafts booths\, there's something for everyone. Don't miss out on this unforgettable experience in 2025! \n\n\n\nAnyone under 18 years of age must be accompanied by an adult. Participants with physical limitations must sign up with a  friend or family member. No refunds on Excursions.
X-ALT-DESC;FMTTYPE=text/html:Join us for a drive up the coast to the Strawberry Festival in Ventura. This event is the ultimate summer kickoff while supporting the community in a BIG way. Indulge in your favorite strawberry treats like build-your-own shortcakes\, chocolate-covered delights\, and refreshing strawberry beer. With over 40 food vendors\, live music\, and a plethora of arts and crafts booths\, there&#39\;s something for everyone. Don&#39\;t miss out on this unforgettable experience in 2025!&nbsp\;<br />\n<br />\n<em>Anyone under 18 years of age must be accompanied by an adult. Participants with physical limitations must sign up with a&nbsp\; friend or family member. No refunds on Excursions.&nbsp\;</em>
LOCATION:Community Center 710 Pier Avenue Hermosa Beach\, California 90254
UID:e.2438.11574
SEQUENCE:3
DTSTAMP:20260422T225127Z
URL:https://business.hbchamber.net/events/details/excursion-strawberry-festival-in-ventura-11574
END:VEVENT

END:VCALENDAR
