BEGIN:VCALENDAR
VERSION:2.0
PRODID:-//ChamberMaster//Event Calendar 2.0//EN
METHOD:PUBLISH
X-PUBLISHED-TTL:P3D
REFRESH-INTERVAL:P3D
CALSCALE:GREGORIAN
BEGIN:VEVENT
DTSTART:20241219T003000Z
DTEND:20241219T033000Z
X-MICROSOFT-CDO-ALLDAYEVENT:FALSE
SUMMARY:Excursion: Cruise of Lights at the Huntington Beach Harbor
DESCRIPTION:Experience the magic of the holiday season aboard the Cruise of Lights holiday boat ride through the Huntington Beach Harbor! Enjoy a festive evening on the water as you cruise past beautifully decorated boats\, decks\, docks and waterfront homes on a 50-minute narrated boat tour.
X-ALT-DESC;FMTTYPE=text/html:Experience the magic of the holiday season aboard the Cruise of Lights holiday boat ride through the Huntington Beach Harbor! Enjoy a festive evening on the water as you cruise past beautifully decorated boats\, decks\, docks and waterfront homes on a 50-minute narrated boat tour.
LOCATION:Community Center 710 Pier Avenue Hermosa Beach\, CA 90254
UID:e.2438.10644
SEQUENCE:3
DTSTAMP:20260422T173833Z
URL:https://business.hbchamber.net/events/details/excursion-cruise-of-lights-at-the-huntington-beach-harbor-10644
END:VEVENT

END:VCALENDAR
