BEGIN:VCALENDAR
VERSION:2.0
PRODID:-//ChamberMaster//Event Calendar 2.0//EN
METHOD:PUBLISH
X-PUBLISHED-TTL:P3D
REFRESH-INTERVAL:P3D
CALSCALE:GREGORIAN
BEGIN:VEVENT
DTSTART:20250608T000000Z
DTEND:20250608T030000Z
X-MICROSOFT-CDO-ALLDAYEVENT:FALSE
SUMMARY:Evening of Benefit and Bliss
DESCRIPTION:Wishing to grow our Center and help more people in our area find inner peace\, join us for a special FUNdraising evening of amazing food\, musical performances   including our very own Gavin Heaney\, and surprise guests! It will be a lively gathering with our spiritual friends\, our Sangha.\n\nAlso\, you'll have the opportunity to support the Center materially by participating in the silent auction with an amazing array of tickets\, vacations\, and unique gifts. Or try your luck with one of our raffle baskets\, chock full of gift certificates and other treats. \n\nEverybody welcome! Pre-registration required.
X-ALT-DESC;FMTTYPE=text/html:<p>Wishing to grow our Center and help more people in our area find inner peace\, join us for a special&nbsp\;FUNdraising&nbsp\;evening of amazing food\, musical performances &mdash\; including our very own Gavin Heaney\, and surprise guests! It will be a lively gathering with our spiritual friends\, our Sangha.</p>\n\n<p>Also\, you&rsquo\;ll have the opportunity to support the Center materially by participating in the silent auction with an amazing array of tickets\, vacations\, and unique gifts. Or try your luck with one of our raffle baskets\, chock full of gift certificates and other treats.&nbsp\;</p>\n\n<p>Everybody welcome! Pre-registration required.</p>\n
LOCATION:Mahamudra Kadampa Meditation Center 500 6th St Hermosa Beach\, CA 90254
UID:e.2438.11526
SEQUENCE:3
DTSTAMP:20260423T004250Z
URL:https://business.hbchamber.net/events/details/evening-of-benefit-and-bliss-11526
END:VEVENT

END:VCALENDAR
