BEGIN:VCALENDAR
VERSION:2.0
PRODID:-//ChamberMaster//Event Calendar 2.0//EN
METHOD:PUBLISH
X-PUBLISHED-TTL:P3D
REFRESH-INTERVAL:P3D
CALSCALE:GREGORIAN
BEGIN:VEVENT
DTSTART:20250518T150000Z
DTEND:20250518T220000Z
X-MICROSOFT-CDO-ALLDAYEVENT:FALSE
SUMMARY:Epic Days
DESCRIPTION:The Epic Day Foundation will host a beach day for children and young adults with special needs.\n\n\n\nFor more information\, visit www.epicdaysfoundation.org.
X-ALT-DESC;FMTTYPE=text/html:The Epic Day Foundation will host a beach day for children and young adults with special needs.<br />\n<br />\nFor more information\, visit <a href="http://www.epicdaysfoundation.org">www.epicdaysfoundation.org</a>.
LOCATION:
UID:e.2438.11573
SEQUENCE:3
DTSTAMP:20260422T223953Z
URL:https://business.hbchamber.net/events/details/epic-days-11573
END:VEVENT

END:VCALENDAR
