BEGIN:VCALENDAR
VERSION:2.0
PRODID:-//ChamberMaster//Event Calendar 2.0//EN
METHOD:PUBLISH
X-PUBLISHED-TTL:P3D
REFRESH-INTERVAL:P3D
CALSCALE:GREGORIAN
BEGIN:VEVENT
DTSTART;VALUE=DATE:20241111
DTEND;VALUE=DATE:20241126
TRANSP:TRANSPARENT
X-MICROSOFT-CDO-ALLDAYEVENT:TRUE
SUMMARY:Elf on the Shelf Scavenger Hunt
DESCRIPTION:The elves are loose in Hermosa Beach and we need your help to find them all!        The annual Elf on a Shelf Scavenger Hunt is BACK as part of Hermosa for the Holidays. Find all the elves in Hermosa Beach for a chance to win cool prizes!   All ages are welcome to participate. \n\n\n\nYou can pick up a postcard at any of the participating businesses:\n\n	Milk Tooth\n	Star's Antique Market\n	West Coast Sweat\n	Uncorked\n	Gum Tree\n	Curious...\n	Sol Baby\n	Hermosa Chamber\n	Handmade in CA\n	Fundamental Coast\n	Wicked+ General Store\n	Beach & Beverly\n	Granny's Grocery & Deli\n	Soul Bungalow\n	Creamy Boys Ice Cream\n	Next Adventure Bikes\n	Coastal Lane Nail Bar\n	SoHo Yoga\n	Derm Dude\n	H2O Hermosa\n	The Bungalow\n	Hermosa Cyclery\n	Spyder Surf\n	Treasure Chest\n	Sea Sprite Hotel
X-ALT-DESC;FMTTYPE=text/html:The elves are loose in Hermosa Beach and we need your help to find them all!&#129501\;&#127995\;&zwj\;&#9794\;&#65039\;&#128064\;&#128269\; The annual Elf on a Shelf Scavenger Hunt is BACK as part of Hermosa for the Holidays. Find all the elves in Hermosa Beach for a chance to win cool prizes! &#127873\; All ages are welcome to participate.&nbsp\;<br />\n<br />\nYou can pick up a postcard at any of the participating businesses:\n<ul>\n	<li>Milk Tooth</li>\n	<li>Star&rsquo\;s Antique Market</li>\n	<li>West Coast Sweat</li>\n	<li>Uncorked</li>\n	<li>Gum Tree</li>\n	<li>Curious...</li>\n	<li>Sol Baby</li>\n	<li>Hermosa Chamber</li>\n	<li>Handmade in CA</li>\n	<li>Fundamental Coast</li>\n	<li>Wicked+ General Store</li>\n	<li>Beach &amp\; Beverly</li>\n	<li>Granny&rsquo\;s Grocery &amp\; Deli</li>\n	<li>Soul Bungalow</li>\n	<li>Creamy Boys Ice Cream</li>\n	<li>Next Adventure Bikes</li>\n	<li>Coastal Lane Nail Bar</li>\n	<li>SoHo Yoga</li>\n	<li>Derm Dude</li>\n	<li>H2O Hermosa</li>\n	<li>The Bungalow</li>\n	<li>Hermosa Cyclery</li>\n	<li>Spyder Surf</li>\n	<li>Treasure Chest</li>\n	<li>Sea Sprite Hotel</li>\n</ul>\n
LOCATION:Pick up a card at any of the participating businesses listed below\, or stop by the Hermosa Chamber of Commerce (120 Pier Ave).
UID:e.2438.10804
SEQUENCE:3
DTSTAMP:20260420T221246Z
URL:https://business.hbchamber.net/events/details/elf-on-the-shelf-scavenger-hunt-10804
END:VEVENT

END:VCALENDAR
