BEGIN:VCALENDAR
VERSION:2.0
PRODID:-//ChamberMaster//Event Calendar 2.0//EN
METHOD:PUBLISH
X-PUBLISHED-TTL:P3D
REFRESH-INTERVAL:P3D
CALSCALE:GREGORIAN
BEGIN:VEVENT
DTSTART:20241111T013000Z
DTEND:20241111T040000Z
X-MICROSOFT-CDO-ALLDAYEVENT:FALSE
SUMMARY:Elemental Embodiment Workshop with Kristin White & Silke Schroeder
DESCRIPTION:Join us for an immersive and transformative journey through the elements Water\, Earth\, Air\, and Fire designed to reconnect you with your true essence and inner balance. This two-and-a-half-hour workshop will take you through four elemental practices\, each honoring an aspect of nature\, followed by a powerful hour-long Sound Bath to integrate these experiences and leave you feeling centered\, aligned\, and rejuvenated.
X-ALT-DESC;FMTTYPE=text/html:Join us for an immersive and transformative journey through the elements&mdash\;<strong>Water\, Earth\, Air\, and Fire</strong>&mdash\;designed to reconnect you with your true essence and inner balance. This two-and-a-half-hour workshop will take you through four elemental practices\, each honoring an aspect of nature\, followed by a powerful hour-long <strong>Sound Bath</strong> to integrate these experiences and leave you feeling centered\, aligned\, and rejuvenated.
LOCATION:White Light Sounds 312 South Catalina Ave Redondo Beach\, CA
UID:e.2438.10732
SEQUENCE:3
DTSTAMP:20260422T194503Z
URL:https://business.hbchamber.net/events/details/elemental-embodiment-workshop-with-kristin-white-silke-schroeder-10732
END:VEVENT

END:VCALENDAR
