BEGIN:VCALENDAR
VERSION:2.0
PRODID:-//ChamberMaster//Event Calendar 2.0//EN
METHOD:PUBLISH
X-PUBLISHED-TTL:P3D
REFRESH-INTERVAL:P3D
CALSCALE:GREGORIAN
BEGIN:VEVENT
DTSTART:20241115T193000Z
DTEND:20241115T210000Z
X-MICROSOFT-CDO-ALLDAYEVENT:FALSE
SUMMARY:El Camino State of the College
DESCRIPTION:Join us for the sixth annual State of the College to learn how El Camino College's vision for the next ten years is integral to shaping the workforce of the future. You'll hear from El Camino College President and CEO Dr. Brenda Thames about successful\, existing programs and innovative future plans that will create economic vitality for students\, employers and the community.
X-ALT-DESC;FMTTYPE=text/html:Join us for the sixth annual State of the College to learn how El Camino College&#39\;s vision for the next ten years is integral to shaping the workforce of the future. You&rsquo\;ll hear from El Camino College President and CEO Dr. Brenda Thames about successful\, existing programs and innovative future plans that will create economic vitality for students\, employers and the community.&nbsp\;
LOCATION:El Camino College -- East Dining Room (in the Bookstore Building\, 2nd Floor) 16007 Crenshaw Blvd Torrance\, CA 90506 Parking available in Lot C
UID:e.2438.10777
SEQUENCE:3
DTSTAMP:20260422T192808Z
URL:https://business.hbchamber.net/events/details/el-camino-state-of-the-college-10777
END:VEVENT

END:VCALENDAR
