BEGIN:VCALENDAR
VERSION:2.0
PRODID:-//ChamberMaster//Event Calendar 2.0//EN
METHOD:PUBLISH
X-PUBLISHED-TTL:P3D
REFRESH-INTERVAL:P3D
CALSCALE:GREGORIAN
BEGIN:VEVENT
DTSTART:20220326T170000Z
DTEND:20220326T230000Z
X-MICROSOFT-CDO-ALLDAYEVENT:FALSE
SUMMARY:El Camino College: CommUnity Walk Against Hate
DESCRIPTION:n anticipation of the Fall 2022 opening of the Student Social Justice Center\, and in response to the ongoing concerns about local hate crimes against members of the Asian American Pacific Island community\, as well as continued awareness about incidents of racism and hate crimes within the South Bay area\, El Camino College invites the public to join a "CommUnity Walk Against Hate" on campus Saturday\, March 26\, at 10 a.m.\n\n \n\nUnified by the motto\, "Hate Has No Home Here\," community members are welcome to join El Camino students\, faculty and staff on the steps in front of the Administration Building at the Crenshaw Boulevard campus entrance at 10 a.m. for a one-mile walk around campus to show public support for diversity\, tolerance\, and human dignity.
X-ALT-DESC;FMTTYPE=text/html:<span style="font-size:13pt\;">n anticipation of the Fall 2022 opening of the Student Social Justice Center\, and in response to the ongoing concerns about local hate crimes against members of the Asian American Pacific Island community\, as well as continued awareness about incidents of racism and hate crimes within the South Bay area\, El Camino College invites the public to join a<a name="m_-968834291424721252__Hlk97207314" style="color:rgb(34\, 34\, 34)\;">&nbsp\;&ldquo\;CommUnity Walk Against Hate&rdquo\; on campus Saturday\, March 26\, at 10 a.m.</a></span><br />\n&nbsp\;<br />\n<span style="font-size:13pt\;">Unified by the motto\, &ldquo\;Hate Has No Home Here\,&rdquo\; community members are welcome to join El Camino students\, faculty and staff on the steps in front of the Administration Building at the Crenshaw Boulevard campus entrance at 10 a.m. for a one-mile walk around campus to show public support for diversity\, tolerance\, and human dignity.</span>
LOCATION:El Camino College -- Walk begins and ends at the Administration Building steps (Crenshaw Blvd. campus entrance). Self Defense class will be in the South Gym\,
UID:e.2438.5312
SEQUENCE:3
DTSTAMP:20260421T105507Z
URL:https://business.hbchamber.net/events/details/el-camino-college-community-walk-against-hate-5312
END:VEVENT

END:VCALENDAR
