BEGIN:VCALENDAR
VERSION:2.0
PRODID:-//ChamberMaster//Event Calendar 2.0//EN
METHOD:PUBLISH
X-PUBLISHED-TTL:P3D
REFRESH-INTERVAL:P3D
CALSCALE:GREGORIAN
BEGIN:VEVENT
DTSTART:20220305T013000Z
DTEND:20220305T033000Z
X-MICROSOFT-CDO-ALLDAYEVENT:FALSE
SUMMARY:El Camino College Celebrates 75 Years Gala
DESCRIPTION:The El Camino College Foundation is pleased to announce the 75th Diamond Anniversary of El Camino College! A full year of celebrations are planned throughout 2022.\n\nTo launch the festivities\, a 75th Anniversary Gala / Distinguished Alumni and Gratitude Awards Dinner will be held on March 4\, 2022 at the Westdrift Manhattan Beach. This event has an expected attendance of 300+ guests who live\, dine and play in the South Bay.\n\n\n\nGuest check-in will begin at 5:30 p.m. Semi-formal attire. Proof of COVID-19 vaccination required for all attendees.
X-ALT-DESC;FMTTYPE=text/html:<p style="box-sizing: border-box\; margin: 10px 0px\; padding: 0px\; font-size: 20px\; line-height: 28px\; border: 0px\; background: transparent\; font-family: &quot\;Libre Franklin&quot\;\, sans-serif\; color: rgb(52\, 52\, 52)\;">The El Camino College Foundation is pleased to announce the 75th Diamond Anniversary of El Camino College! A full year of celebrations are planned throughout 2022.</p>\n\n<p style="box-sizing: border-box\; margin: 10px 0px\; padding: 0px\; font-size: 20px\; line-height: 28px\; border: 0px\; background: transparent\; font-family: &quot\;Libre Franklin&quot\;\, sans-serif\; color: rgb(52\, 52\, 52)\;">To launch the festivities\, a 75th Anniversary Gala / Distinguished Alumni and Gratitude Awards Dinner will be held on March 4\, 2022 at the Westdrift Manhattan Beach. This event has an expected attendance of 300+ guests who live\, dine and play in the South Bay.<br />\n<br />\n<span style="color: rgb(52\, 52\, 52)\; font-family: &quot\;Libre Franklin&quot\;\, sans-serif\; font-size: 19px\;">Guest check-in will begin at 5:30 p.m. Semi-formal attire. Proof of COVID-19 vaccination required for all attendees.</span></p>\n
LOCATION:Westdrift Manhattan Beach 1400 Parkview Avenue Manhattan Beach\, CA 90266
UID:e.2438.5276
SEQUENCE:3
DTSTAMP:20260421T105742Z
URL:https://business.hbchamber.net/events/details/el-camino-college-celebrates-75-years-gala-5276
END:VEVENT

END:VCALENDAR
