BEGIN:VCALENDAR
VERSION:2.0
PRODID:-//ChamberMaster//Event Calendar 2.0//EN
METHOD:PUBLISH
X-PUBLISHED-TTL:P3D
REFRESH-INTERVAL:P3D
CALSCALE:GREGORIAN
BEGIN:VEVENT
DTSTART:20220417T123000Z
DTEND:20220417T143000Z
X-MICROSOFT-CDO-ALLDAYEVENT:FALSE
SUMMARY:Easter Sunrise Mass
DESCRIPTION:Our Lady of Guadalupe Church hosts an annual Easter Sunrise Service on the beach\, on the South Side of the Pier. \n\n More information can be found here.
X-ALT-DESC;FMTTYPE=text/html:<p style="box-sizing: border-box\; margin: 0px 0px 1em\; color: rgb(21\, 27\, 33)\; font-family: Cabin\, sans-serif\; font-size: 18px\; background-color: rgb(247\, 246\, 244)\; text-align: center\;">Our Lady of Guadalupe Church hosts an annual Easter Sunrise Service on the beach\, on the South Side of the Pier.&nbsp\;</p>\n\n<p style="box-sizing: border-box\; margin: 0px 0px 1em\; color: rgb(21\, 27\, 33)\; font-family: Cabin\, sans-serif\; font-size: 18px\; background-color: rgb(247\, 246\, 244)\; text-align: center\;">&nbsp\;More information can be found&nbsp\;<a href="https://ourladyofguadalupechurch.org/" style="box-sizing: border-box\; background-color: transparent\; color: rgb(0\, 102\, 119)\;" target="_blank">here</a>.&nbsp\;</p>\n
LOCATION:Beach and Strand 1 Pier Avenue Hermosa Beach\, California 90254
UID:e.2438.5399
SEQUENCE:3
DTSTAMP:20260421T091220Z
URL:https://business.hbchamber.net/events/details/easter-sunrise-mass-5399
END:VEVENT

END:VCALENDAR
