BEGIN:VCALENDAR
VERSION:2.0
PRODID:-//ChamberMaster//Event Calendar 2.0//EN
METHOD:PUBLISH
X-PUBLISHED-TTL:P3D
REFRESH-INTERVAL:P3D
CALSCALE:GREGORIAN
BEGIN:VEVENT
DTSTART:20250421T003000Z
DTEND:20250421T023000Z
X-MICROSOFT-CDO-ALLDAYEVENT:FALSE
SUMMARY:Easter Sunrise Mass
DESCRIPTION:Our Lady of Guadalupe will host its annual Easter Sunrise Mass on the beach south of Pier. For more information\, visit www.ourladyofguadalupechurch.org.
X-ALT-DESC;FMTTYPE=text/html:Our Lady of Guadalupe will host its annual Easter Sunrise Mass on the beach south of Pier. For more information\, visit <a href="http://www.ourladyofguadalupechurch.org">www.ourladyofguadalupechurch.org</a>.
LOCATION:South of the Pier Hermosa Beach\, CA
UID:e.2438.11554
SEQUENCE:3
DTSTAMP:20260422T210031Z
URL:https://business.hbchamber.net/events/details/easter-sunrise-mass-11554
END:VEVENT

END:VCALENDAR
