BEGIN:VCALENDAR
VERSION:2.0
PRODID:-//ChamberMaster//Event Calendar 2.0//EN
METHOD:PUBLISH
X-PUBLISHED-TTL:P3D
REFRESH-INTERVAL:P3D
CALSCALE:GREGORIAN
BEGIN:VEVENT
DTSTART:20220417T180000Z
DTEND:20220417T190000Z
X-MICROSOFT-CDO-ALLDAYEVENT:FALSE
SUMMARY:Easter Run and Fitness Challenge
DESCRIPTION:
X-ALT-DESC;FMTTYPE=text/html:
LOCATION:Polliowog Park
UID:e.2438.5409
SEQUENCE:3
DTSTAMP:20260421T091638Z
URL:https://business.hbchamber.net/events/details/easter-run-and-fitness-challenge-5409
END:VEVENT

END:VCALENDAR
