BEGIN:VCALENDAR
VERSION:2.0
PRODID:-//ChamberMaster//Event Calendar 2.0//EN
METHOD:PUBLISH
X-PUBLISHED-TTL:P3D
REFRESH-INTERVAL:P3D
CALSCALE:GREGORIAN
BEGIN:VEVENT
DTSTART:20250511T190000Z
DTEND:20250512T030000Z
X-MICROSOFT-CDO-ALLDAYEVENT:FALSE
SUMMARY:Dylanfest 35
DESCRIPTION:Dylanfest is an 8-hour celebration of the music of Bob Dylan. We started it in 1991 and have been holding the event ever since. The show started with our band and a few friends doing an evening of songs by Bob Dylan\, and it has grown to an 8-hour event with over 50 musicians performing over 60 Dylan songs. Our band\, Hard Rain\, is the "house band"\, and we are joined by solo artists\, full bands\, and instrumentalists throughout the course of the day. The show is at the Torrance Cultural Arts Center in the Torino Plaza..
X-ALT-DESC;FMTTYPE=text/html:Dylanfest is an 8-hour celebration of the music of Bob Dylan. We started it in 1991 and have been holding the event ever since. The show started with our band and a few friends doing an evening of songs by Bob Dylan\, and it has grown to an 8-hour event with over 50 musicians performing over 60 Dylan songs. Our band\, Hard Rain\, is the &quot\;house band&quot\;\, and we are joined by solo artists\, full bands\, and instrumentalists throughout the course of the day. The show is at the Torrance Cultural Arts Center in the Torino Plaza..
LOCATION:Torino Plaza\, Torrance Cultural Arts Center\, 3300 Civic Center Drive\, Torrance\, CA 90503
UID:e.2438.11602
SEQUENCE:3
DTSTAMP:20260422T224023Z
URL:https://business.hbchamber.net/events/details/dylanfest-35-11602
END:VEVENT

END:VCALENDAR
