BEGIN:VCALENDAR
VERSION:2.0
PRODID:-//ChamberMaster//Event Calendar 2.0//EN
METHOD:PUBLISH
X-PUBLISHED-TTL:P3D
REFRESH-INTERVAL:P3D
CALSCALE:GREGORIAN
BEGIN:VEVENT
DTSTART:20250119T020000Z
DTEND:20250119T040000Z
X-MICROSOFT-CDO-ALLDAYEVENT:FALSE
SUMMARY:Drag it Forward Drag Bingo
DESCRIPTION:Don't let the winter blues drag you down - join us for a fun evening of Drag Queen Bingo\, Opportunity Drawings\, and prizes! Silent Auction\, Mini Tarot Readings\, Snacks\, Food + Festive Drinks\, Opportunity Basket Drawings\, Prizes and MORE! There will be food and beverage options - both non-alcoholic and alcoholic (Broujerwi West beer\, wine + hard seltzer\, sparkling wine and a specialty cocktail presented by NEEF vodka!). Thank you for your support! We can't wait to Drag ourselves forward into 2025 with you!
X-ALT-DESC;FMTTYPE=text/html:Don&#39\;t let the winter blues drag you down - join us for a fun evening of Drag Queen Bingo\, Opportunity Drawings\, and prizes!&nbsp\;Silent Auction\, Mini Tarot Readings\, Snacks\, Food + Festive Drinks\, Opportunity Basket Drawings\, Prizes and MORE! There will be food and beverage options - both non-alcoholic and alcoholic (Broujerwi West beer\, wine + hard seltzer\, sparkling wine and a specialty cocktail presented by NEEF vodka!).&nbsp\;Thank you for your support! We can&#39\;t wait to Drag ourselves forward into 2025 with you!
LOCATION:Mychal's Learning Place 4901 Rosecrans Ave Hawthorne\, CA 90250
UID:e.2438.11140
SEQUENCE:3
DTSTAMP:20260420T184257Z
URL:https://business.hbchamber.net/events/details/drag-it-forward-drag-bingo-11140
END:VEVENT

END:VCALENDAR
