BEGIN:VCALENDAR
VERSION:2.0
PRODID:-//ChamberMaster//Event Calendar 2.0//EN
METHOD:PUBLISH
X-PUBLISHED-TTL:P3D
REFRESH-INTERVAL:P3D
CALSCALE:GREGORIAN
BEGIN:VEVENT
DTSTART:20250326T020000Z
DTEND:20250326T033000Z
X-MICROSOFT-CDO-ALLDAYEVENT:FALSE
SUMMARY:Desserts and Details hosted by Ambassador Christian School Admissions
DESCRIPTION:Join us at Ambassador Christian School for an informal conversation with our Head of School\, teachers\, and other parents.Take a deeper look at our innovative and individualized academics\, athletics\, arts\, and spiritual development programs.
X-ALT-DESC;FMTTYPE=text/html:<span style="color:rgb(0\, 0\, 0)\; font-size:1em">Join us at Ambassador Christian School for an informal conversation with our Head of School\, teachers\, and other parents.Take a deeper look at our innovative and individualized academics\,</span><span style="color:rgb(0\, 0\, 0)\; font-size:1em"> </span><span style="color:rgb(0\, 0\, 0)\; font-size:1em">athletics\, arts\, and spiritual development programs.</span>
LOCATION:Ambassador Christian School Board Room 2300 Crenshaw Blvd. Building B Torrance\, CA 90501
UID:e.2438.11449
SEQUENCE:3
DTSTAMP:20260422T192807Z
URL:https://business.hbchamber.net/events/details/desserts-and-details-hosted-by-ambassador-christian-school-admissions-11449
END:VEVENT

END:VCALENDAR
