BEGIN:VCALENDAR
VERSION:2.0
PRODID:-//ChamberMaster//Event Calendar 2.0//EN
METHOD:PUBLISH
X-PUBLISHED-TTL:P3D
REFRESH-INTERVAL:P3D
CALSCALE:GREGORIAN
BEGIN:VEVENT
DTSTART;VALUE=DATE:20250708
DTEND;VALUE=DATE:20250709
TRANSP:TRANSPARENT
X-MICROSOFT-CDO-ALLDAYEVENT:TRUE
SUMMARY:Dementia Caregiver Support Group
DESCRIPTION:Caring for a loved one with a dementia diagnosis can be overwhelming and stressful. Our support groups offer a safe space to address the challenges that come with caring for someone\, find support amongst peers who share similar experiences and openly express your feelings around being a caregiver. \n\n\n\nMANHATTAN BEACH - please join us on the second and fourth Tuesdays of the month (7/8 and 7/22) at 1:30 p.m. at the Joslyn Community Center\, 1601 N. Valley Dr.\, Manhattan Beach\, CA 90266. Facilitated by Beach Cities Health District's Care Manager Social Workers. In partnership with the Alzheimer's Association and Manhattan Beach Older Adults Program. \n\n\n\nREDONDO BEACH - Please join us on the third Monday of the month (7/21) at 2 p.m. in the cafe at 514 N. Prospect Ave.\, Redondo Beach\, 90277. Facilitated by Beach Cities Health District's Care Managers Joy Schmidt\, LCSW and Rudy Diaz\, ASW. In partnership with the Alzheimer's Association. \n\n\n\nRegistration is not required. Questions? Call Beach Cities Health District at 310-374-3426\, Option 1.
X-ALT-DESC;FMTTYPE=text/html:Caring for a loved one with a dementia diagnosis can be overwhelming and stressful. Our support groups offer a safe space to address the challenges that come with caring for someone\, find support amongst peers who share similar experiences and openly express your feelings around being a caregiver.&nbsp\;<br />\n<br />\n<strong>MANHATTAN BEACH</strong> - please join us on the second and fourth Tuesdays of the month (7/8 and 7/22) at 1:30 p.m. at the Joslyn Community Center\, 1601 N. Valley Dr.\, Manhattan Beach\, CA 90266. Facilitated by Beach Cities Health District&#39\;s Care Manager Social Workers. In partnership with the Alzheimer&#39\;s Association and Manhattan Beach Older Adults Program.&nbsp\;<br />\n<br />\n<strong>REDONDO BEACH</strong> - Please join us on the third Monday of the month (7/21) at 2 p.m. in the cafe at 514 N. Prospect Ave.\, Redondo Beach\, 90277. Facilitated by Beach Cities Health District&rsquo\;s Care Managers Joy Schmidt\, LCSW and Rudy Diaz\, ASW. In partnership with the Alzheimer&rsquo\;s Association.&nbsp\;<br />\n<br />\nRegistration is not required. Questions? Call Beach Cities Health District at 310-374-3426\, Option 1.&nbsp\;
LOCATION:MANHATTAN BEACH Joslyn Community Center 1601 N. Valley Dr. Manhattan Beach\, CA 90266 REDONDO BEACH 514 N. Prospect Ave. Redondo Beach\, 90277
UID:e.2438.12460
SEQUENCE:3
DTSTAMP:20260423T035932Z
URL:https://business.hbchamber.net/events/details/dementia-caregiver-support-group-12460
END:VEVENT

END:VCALENDAR
