BEGIN:VCALENDAR
VERSION:2.0
PRODID:-//ChamberMaster//Event Calendar 2.0//EN
METHOD:PUBLISH
X-PUBLISHED-TTL:P3D
REFRESH-INTERVAL:P3D
CALSCALE:GREGORIAN
BEGIN:VEVENT
DTSTART;VALUE=DATE:20250616
DTEND;VALUE=DATE:20250617
TRANSP:TRANSPARENT
X-MICROSOFT-CDO-ALLDAYEVENT:TRUE
SUMMARY:Dementia Caregiver Support Group
DESCRIPTION:Caring for a loved one with a dementia diagnosis can be overwhelming and stressful. Our support groups offer a safe space to address the challenges that come with caring for someone\, find support amongst peers who share similar experiences and openly express your feelings around being a caregiver.
X-ALT-DESC;FMTTYPE=text/html:Caring for a loved one with a dementia diagnosis can be overwhelming and stressful. Our support groups offer a safe space to address the challenges that come with caring for someone\, find support amongst peers who share similar experiences and openly express your feelings around being a caregiver.&nbsp\;
LOCATION:MANHATTAN BEACH Joslyn Community Center 1601 N. Valley Dr Manhattan Beach\, CA 90266 REDONDO BEACH 514 N. Prospect Ave Redondo Beach\, 90277
UID:e.2438.12414
SEQUENCE:3
DTSTAMP:20260423T023720Z
URL:https://business.hbchamber.net/events/details/dementia-caregiver-support-group-12414
END:VEVENT

END:VCALENDAR
