BEGIN:VCALENDAR
VERSION:2.0
PRODID:-//ChamberMaster//Event Calendar 2.0//EN
METHOD:PUBLISH
X-PUBLISHED-TTL:P3D
REFRESH-INTERVAL:P3D
CALSCALE:GREGORIAN
BEGIN:VEVENT
DTSTART:20241216T220000Z
DTEND:20241216T233000Z
X-MICROSOFT-CDO-ALLDAYEVENT:FALSE
SUMMARY:Dementia Caregiver Support Group
DESCRIPTION:Facilitated by Beach Cities Health District's Care Managers Joy Schmidt\, LCSW and Rudy Diaz\, ASW. In partnership with the Alzheimer's Association.  \n\nThis support group offers a safe place to address the challenges that come with caring for someone\, find support amongst peers who share similar experiences and openly express your feelings around being a caregiver.  \n\nhttps://www.bchd.org/support-groups
X-ALT-DESC;FMTTYPE=text/html:Facilitated by Beach Cities Health District&rsquo\;s Care Managers Joy Schmidt\, LCSW and Rudy Diaz\, ASW. In partnership with the Alzheimer&rsquo\;s Association. &nbsp\;<br />\nThis support group offers a safe place to address the challenges that come with caring for someone\, find support amongst peers who share similar experiences and openly express your feelings around being a caregiver. &nbsp\;<br />\n<a href="https://www.bchd.org/support-groups">https://www.bchd.org/support-groups</a> &nbsp\;
LOCATION:514 N. Prospect Ave\, 1st floor caf Redondo Beach\, CA 90277
UID:e.2438.11029
SEQUENCE:3
DTSTAMP:20260422T173107Z
URL:https://business.hbchamber.net/events/details/dementia-caregiver-support-group-11029
END:VEVENT

END:VCALENDAR
