BEGIN:VCALENDAR
VERSION:2.0
PRODID:-//ChamberMaster//Event Calendar 2.0//EN
METHOD:PUBLISH
X-PUBLISHED-TTL:P3D
REFRESH-INTERVAL:P3D
CALSCALE:GREGORIAN
BEGIN:VEVENT
DTSTART:20241118T220000Z
DTEND:20241118T233000Z
X-MICROSOFT-CDO-ALLDAYEVENT:FALSE
SUMMARY:Dementia Caregiver Support Group
DESCRIPTION:
X-ALT-DESC;FMTTYPE=text/html:
LOCATION:Beach Cities Cafe 514 N Prospect Ave Redondo Beach\, CA 90277
UID:e.2438.10791
SEQUENCE:3
DTSTAMP:20260422T192306Z
URL:https://business.hbchamber.net/events/details/dementia-caregiver-support-group-10791
END:VEVENT

END:VCALENDAR
