BEGIN:VCALENDAR
VERSION:2.0
PRODID:-//ChamberMaster//Event Calendar 2.0//EN
METHOD:PUBLISH
X-PUBLISHED-TTL:P3D
REFRESH-INTERVAL:P3D
CALSCALE:GREGORIAN
BEGIN:VEVENT
DTSTART:20241112T213000Z
DTEND:20241112T230000Z
X-MICROSOFT-CDO-ALLDAYEVENT:FALSE
SUMMARY:Dementia Caregiver Support Group
DESCRIPTION:
X-ALT-DESC;FMTTYPE=text/html:
LOCATION:Joslyn Community Center 1601 N Valley Dr Manhattan Beach\, CA 90266
UID:e.2438.10789
SEQUENCE:3
DTSTAMP:20260422T192306Z
URL:https://business.hbchamber.net/events/details/dementia-caregiver-support-group-10789
END:VEVENT

END:VCALENDAR
