BEGIN:VCALENDAR
VERSION:2.0
PRODID:-//ChamberMaster//Event Calendar 2.0//EN
METHOD:PUBLISH
X-PUBLISHED-TTL:P3D
REFRESH-INTERVAL:P3D
CALSCALE:GREGORIAN
BEGIN:VEVENT
DTSTART:20220430T030000Z
DTEND:20220430T050000Z
X-MICROSOFT-CDO-ALLDAYEVENT:FALSE
SUMMARY:Dane Drewis Music @ The Lighthouse Cafe
DESCRIPTION:
X-ALT-DESC;FMTTYPE=text/html:
LOCATION:Lighthouse cafe 30 Pier Ave Hermosa Beach\, CA
UID:e.2438.5518
SEQUENCE:3
DTSTAMP:20260421T091717Z
URL:https://business.hbchamber.net/events/details/dane-drewis-music-the-lighthouse-cafe-5518
END:VEVENT

END:VCALENDAR
