BEGIN:VCALENDAR
VERSION:2.0
PRODID:-//ChamberMaster//Event Calendar 2.0//EN
METHOD:PUBLISH
X-PUBLISHED-TTL:P3D
REFRESH-INTERVAL:P3D
CALSCALE:GREGORIAN
BEGIN:VEVENT
DTSTART:20220430T230000Z
DTEND:20220501T010000Z
X-MICROSOFT-CDO-ALLDAYEVENT:FALSE
SUMMARY:Dan O’Sullivan @ Uncorked
DESCRIPTION:
X-ALT-DESC;FMTTYPE=text/html:
LOCATION:Uncorked Hermosa\, 302 Pier Ave Hermosa Beach\, CA 90254 + Google Map
UID:e.2438.5523
SEQUENCE:3
DTSTAMP:20260421T092601Z
URL:https://business.hbchamber.net/events/details/dan-o-sullivan-uncorked-5523
END:VEVENT

END:VCALENDAR
