BEGIN:VCALENDAR
VERSION:2.0
PRODID:-//ChamberMaster//Event Calendar 2.0//EN
METHOD:PUBLISH
X-PUBLISHED-TTL:P3D
REFRESH-INTERVAL:P3D
CALSCALE:GREGORIAN
BEGIN:VEVENT
DTSTART:20241116T010000Z
DTEND:20241116T040000Z
X-MICROSOFT-CDO-ALLDAYEVENT:FALSE
SUMMARY:Currents - Kimie Joe Solo Art Exhibit at Made by Inch
DESCRIPTION:Kimie Joe's Solo Art Exhibit "Currents" will be at Made by Inch in Hermosa Beach. Kimie's artwork showcases a journey of heritage and nature's flowing rhythm. Acclaimed artist Kimie Joe will present her deeply personal and evocative collection of original works. Please visit Made by Inch for the Opening Reception (Fri. 11/15\, 5-8PM) and will be on display until Jan. 5th.
X-ALT-DESC;FMTTYPE=text/html:Kimie Joe&#39\;s Solo Art Exhibit &quot\;Currents&quot\; will be at Made by Inch in Hermosa Beach. Kimie&#39\;s artwork showcases a journey of heritage and nature&#39\;s flowing rhythm. Acclaimed artist Kimie Joe will present her deeply personal and evocative collection of original works. Please visit Made by Inch for the Opening Reception (Fri. 11/15\, 5-8PM) and will be on display until Jan. 5th.&nbsp\;
LOCATION:Made by Inch 321 Pier Ave. Hermosa Beach\, CA 90254
UID:e.2438.10805
SEQUENCE:3
DTSTAMP:20260422T192906Z
URL:https://business.hbchamber.net/events/details/currents-kimie-joe-solo-art-exhibit-at-made-by-inch-10805
END:VEVENT

END:VCALENDAR
