BEGIN:VCALENDAR
VERSION:2.0
PRODID:-//ChamberMaster//Event Calendar 2.0//EN
METHOD:PUBLISH
X-PUBLISHED-TTL:P3D
REFRESH-INTERVAL:P3D
CALSCALE:GREGORIAN
BEGIN:VEVENT
DTSTART:20220325T020000Z
DTEND:20220325T040000Z
X-MICROSOFT-CDO-ALLDAYEVENT:FALSE
SUMMARY:Cultured Slice + Project Barely Present: Cheese & Beer
DESCRIPTION:Spring Is Here! Cheese & Beer Pairing at Project Barley Brewery! Spring time beer and cheese event! Tickets can be purchased here.
X-ALT-DESC;FMTTYPE=text/html:<h1 class="w-product-title font--step-4 font--primary text-component" data-v-3730b402="" data-v-b9becfd2="" highlightstring="" style="box-sizing: inherit\; margin: 0px\; padding: 0px\; font-size: var(--font-step-4-size)\; font-family: var(--primary-font)\; font-weight: var(--primary-font-weight\,400)\; color: var(--color-black)\; overflow-wrap: anywhere\; word-break: break-word\; letter-spacing: var(--letter-spacing)\; line-height: var(--font-step-4-line-height)\;" title="Spring Is Here! Cheese &amp\; Beer Pairing at Project Barley Brewery">Spring Is Here! Cheese &amp\; Beer Pairing at Project Barley Brewery!&nbsp\;<span style="color: rgb(38\, 38\, 38)\; font-family: -apple-system\, &quot\;system-ui&quot\;\, &quot\;Segoe UI&quot\;\, Roboto\, Helvetica\, Arial\, sans-serif\; font-size: 14px\;">Spring time beer and cheese event! Tickets can be purchased <a href="https://culturedslice.square.site/product/CheeseBeerPairing/479?cp=true&amp\;sa=false&amp\;sbp=false&amp\;q=false&amp\;category_id=33">here.</a></span></h1>\n
LOCATION:Project Barley Brewery 2308 Pacific Coast Hwy Lomita\, CA 90717
UID:e.2438.5374
SEQUENCE:3
DTSTAMP:20260421T105231Z
URL:https://business.hbchamber.net/events/details/cultured-slice-project-barely-present-cheese-beer-5374
END:VEVENT

END:VCALENDAR
