BEGIN:VCALENDAR
VERSION:2.0
PRODID:-//ChamberMaster//Event Calendar 2.0//EN
METHOD:PUBLISH
X-PUBLISHED-TTL:P3D
REFRESH-INTERVAL:P3D
CALSCALE:GREGORIAN
BEGIN:VEVENT
DTSTART:20241214T010000Z
DTEND:20241214T023000Z
X-MICROSOFT-CDO-ALLDAYEVENT:FALSE
SUMMARY:Crafts\, Cocoa\, & Holiday Fun!
DESCRIPTION:Present by Hermosa Beach Museum and Hermosa Beach Friends of the Library. Join us for a magical evening of holiday fun! Ornament-making workshop\, photo opportunities\, hot chocolate and cookie bar\, and holiday reading. All activities lead up to a special showing of The Nightmare Before Christmas after the festivities at the Community Center.
X-ALT-DESC;FMTTYPE=text/html:Present by Hermosa Beach Museum and Hermosa Beach Friends of the Library. Join us for a magical evening of holiday fun! Ornament-making workshop\, photo opportunities\, hot chocolate and cookie bar\, and holiday reading. All activities lead up to a special showing of <em>The Nightmare Before Christmas</em> after the festivities at the Community Center.&nbsp\;
LOCATION:Hermosa Beach Community Center 710 Pier Avenue Hermosa Beach\, CA 90254
UID:e.2438.10772
SEQUENCE:3
DTSTAMP:20260422T173105Z
URL:https://business.hbchamber.net/events/details/crafts-cocoa-holiday-fun-10772
END:VEVENT

END:VCALENDAR
