BEGIN:VCALENDAR
VERSION:2.0
PRODID:-//ChamberMaster//Event Calendar 2.0//EN
METHOD:PUBLISH
X-PUBLISHED-TTL:P3D
REFRESH-INTERVAL:P3D
CALSCALE:GREGORIAN
BEGIN:VEVENT
DTSTART:20250419T140000Z
DTEND:20250419T190000Z
X-MICROSOFT-CDO-ALLDAYEVENT:FALSE
SUMMARY:Community-Wide Garage Sale 2025
DESCRIPTION:The City will be hosting its annual Community-wide Garage Sale event April 19th from 7am-noon. This event serves to help residents reduce their clutter\, make sure their unneeded stuff gets reused or recycled\, and hopefully help free up space in their garages to help get cars off our streets and increase parking availability.
X-ALT-DESC;FMTTYPE=text/html:The City will be hosting its annual Community-wide Garage Sale event April 19th from 7am-noon. This event serves to help residents reduce their clutter\, make sure their unneeded stuff gets reused or recycled\, and hopefully help free up space in their garages to help get cars off our streets and increase parking availability.
LOCATION:Hermosa Beach\, CA 90254
UID:e.2438.11521
SEQUENCE:3
DTSTAMP:20260422T210513Z
URL:https://business.hbchamber.net/events/details/community-wide-garage-sale-2025-11521
END:VEVENT

END:VCALENDAR
