BEGIN:VCALENDAR
VERSION:2.0
PRODID:-//ChamberMaster//Event Calendar 2.0//EN
METHOD:PUBLISH
X-PUBLISHED-TTL:P3D
REFRESH-INTERVAL:P3D
CALSCALE:GREGORIAN
BEGIN:VEVENT
DTSTART;VALUE=DATE:20241229
DTEND;VALUE=DATE:20241230
TRANSP:TRANSPARENT
X-MICROSOFT-CDO-ALLDAYEVENT:TRUE
SUMMARY:Community Chanukah Celebration
DESCRIPTION:The Jewish Community Center will host its annual Community Chanukah Celebration featuring entertainment\, activities\, and the lighting of the menorah on Pier Plaza.\n\n\n\nFor more information and event times\, visit www.jccmb.com.
X-ALT-DESC;FMTTYPE=text/html:The Jewish Community Center will host its annual Community Chanukah Celebration featuring entertainment\, activities\, and the lighting of the menorah on Pier Plaza.<br />\n<br />\nFor more information and event times\, visit <a href="http://www.jccmb.com">www.jccmb.com</a>.
LOCATION:Pier Plaza 1 Pier Avenue Hermosa Beach\, California 90254
UID:e.2438.10646
SEQUENCE:3
DTSTAMP:20260422T173055Z
URL:https://business.hbchamber.net/events/details/community-chanukah-celebration-10646
END:VEVENT

END:VCALENDAR
