BEGIN:VCALENDAR
VERSION:2.0
PRODID:-//ChamberMaster//Event Calendar 2.0//EN
METHOD:PUBLISH
X-PUBLISHED-TTL:P3D
REFRESH-INTERVAL:P3D
CALSCALE:GREGORIAN
BEGIN:VEVENT
DTSTART:20220310T040000Z
DTEND:20220310T070000Z
X-MICROSOFT-CDO-ALLDAYEVENT:FALSE
SUMMARY:Comics in the Hall
DESCRIPTION:Comics in the Hall every Wednesday from 8pm to 10pm! \n\nHosted by Brian Sheil\, the comedy nights will feature headliners from Comedy Central\, HBO\, Showtime\, and BET! \n\n\n\nStarting at the Brews Hall November 10th\, every Wednesday.
X-ALT-DESC;FMTTYPE=text/html:Comics in the Hall every Wednesday from 8pm to 10pm!&nbsp\;<br />\nHosted by Brian Sheil\, the comedy nights will feature headliners from Comedy Central\, HBO\, Showtime\, and BET!&nbsp\;<br />\n<br />\nStarting at the Brews Hall November 10th\, every Wednesday.&nbsp\;
LOCATION:Brews Hall\, Hermosa Beach
UID:e.2438.4844
SEQUENCE:3
DTSTAMP:20260421T105438Z
URL:https://business.hbchamber.net/events/details/comics-in-the-hall-03-09-2022-4844
END:VEVENT

END:VCALENDAR
