BEGIN:VCALENDAR
VERSION:2.0
PRODID:-//ChamberMaster//Event Calendar 2.0//EN
METHOD:PUBLISH
X-PUBLISHED-TTL:P3D
REFRESH-INTERVAL:P3D
CALSCALE:GREGORIAN
BEGIN:VEVENT
DTSTART:20250518T020000Z
DTEND:20250518T033000Z
X-MICROSOFT-CDO-ALLDAYEVENT:FALSE
SUMMARY:Comedy Night #9: RimoVision Group
DESCRIPTION:Get Ready to Laugh for a Cause!\n\n\n\nJoin us for Comedy Night #9 hosted by RimoVision Group on Saturday\, May 17th\, 2025   an evening packed with side-splitting sets from multiple comedians\, all coming together to support local theatre.\n\n\n\nThis special night of comedy is a fundraiser for RimoVision Group\, the nonprofit theatre collective dedicated to bold\, community-driven performance. Come for the laughs\, stay for the impact!\n\n\n\n  Laughter meets purpose. Don't miss it!
X-ALT-DESC;FMTTYPE=text/html:<strong>Get Ready to Laugh for a Cause!</strong><br />\n<br />\nJoin us for <strong>Comedy Night #9</strong> hosted by <strong>RimoVision Grou</strong>p on <strong>Saturday\, May 17th\, 2025</strong> &mdash\; an evening packed with side-splitting sets from multiple comedians\, all coming together to support local theatre.<br />\n<br />\nThis special night of comedy is a <strong>fundraiser for RimoVision Group</strong>\, the nonprofit theatre collective dedicated to bold\, community-driven performance. Come for the laughs\, stay for the impact!<br />\n<br />\n<strong>&#127917\; Laughter meets purpose. Don&#39\;t miss it!</strong>
LOCATION:Hermosa Beach Community Theatre 710 Pier Ave Hermosa Beach\, CA 90254
UID:e.2438.11625
SEQUENCE:3
DTSTAMP:20260422T224620Z
URL:https://business.hbchamber.net/events/details/comedy-night-9-rimovision-group-11625
END:VEVENT

END:VCALENDAR
