BEGIN:VCALENDAR
VERSION:2.0
PRODID:-//ChamberMaster//Event Calendar 2.0//EN
METHOD:PUBLISH
X-PUBLISHED-TTL:P3D
REFRESH-INTERVAL:P3D
CALSCALE:GREGORIAN
BEGIN:VEVENT
DTSTART:20250614T230000Z
DTEND:20250615T020000Z
X-MICROSOFT-CDO-ALLDAYEVENT:FALSE
SUMMARY:Color Me Proud: Pride Craft Event
DESCRIPTION:Get your craft on     Family\, friends\, kids\, teens\, adults\, LGBTQIA+ and allies alike\, join us for Color Me Proud: Pride Craft Event at Gum Tree as part of the Hermosa Beach Pride Celebration festivities!\n\n\n\nA great opportunity to be around community\, get creative\, and get in the Pride spirit. 2 stations including water color poster making and jewelry making. Supplies and refreshments provided by Gum Tree.
X-ALT-DESC;FMTTYPE=text/html:Get your craft on &#127752\;&#129525\;&#127912\; Family\, friends\, kids\, teens\, adults\, LGBTQIA+ and allies alike\, join us for Color Me Proud: Pride Craft Event at Gum Tree as part of the Hermosa Beach Pride Celebration festivities!<br />\n<br />\nA great opportunity to be around community\, get creative\, and get in the Pride spirit. 2 stations including water color poster making and jewelry making. Supplies and refreshments provided by Gum Tree.
LOCATION:Gum Tree Shop & Cafe 238 Pier Avenue Hermosa Beach\, CA
UID:e.2438.12394
SEQUENCE:3
DTSTAMP:20260423T004251Z
URL:https://business.hbchamber.net/events/details/color-me-proud-pride-craft-event-12394
END:VEVENT

END:VCALENDAR
