BEGIN:VCALENDAR
VERSION:2.0
PRODID:-//ChamberMaster//Event Calendar 2.0//EN
METHOD:PUBLISH
X-PUBLISHED-TTL:P3D
REFRESH-INTERVAL:P3D
CALSCALE:GREGORIAN
BEGIN:VEVENT
DTSTART:20250521T170000Z
DTEND:20250521T180000Z
X-MICROSOFT-CDO-ALLDAYEVENT:FALSE
SUMMARY:Coffee Chat at Fusion Academy
DESCRIPTION:Discover Fusion Academy over a warm cup of coffee! We're hosting a friendly Coffee Chat event where you can:\n\n	Learn about our unique\, personalized approach to education\n	Chat with us and get your questions answered in a friendly\, easygoing atmosphere\n	Take a tour of our inspiring learning spaces\n\nWhether you're a prospective parent\, clinical professional\, community member\, or simply curious about innovative education   everyone is welcome!\n\nCome sip\, chat\, and see what makes Fusion special. We can't wait to meet you!\n\n\n\nRSVP Here: https://lnkd.in/gZSRtUrz
X-ALT-DESC;FMTTYPE=text/html:Discover Fusion Academy over a warm cup of coffee! We&rsquo\;re hosting a friendly Coffee Chat event where you can:\n<ul>\n	<li>Learn about our unique\, personalized approach to education</li>\n	<li>Chat with us and get your questions answered in a friendly\, easygoing atmosphere</li>\n	<li>Take a tour of our inspiring learning spaces</li>\n</ul>\nWhether you&rsquo\;re a prospective parent\, clinical professional\, community member\, or simply curious about innovative education &ndash\; everyone is welcome!<br />\nCome sip\, chat\, and see what makes Fusion special. We can&rsquo\;t wait to meet you!<br />\n<br />\nRSVP Here: <a href="https://lnkd.in/gZSRtUrz">https://lnkd.in/gZSRtUrz</a>
LOCATION:Fusion Academy South Bay 1601 Pacific Coast Hwy. #260 Hermosa Beach\, CA 90254
UID:e.2438.12236
SEQUENCE:3
DTSTAMP:20260422T224634Z
URL:https://business.hbchamber.net/events/details/coffee-chat-at-fusion-academy-12236
END:VEVENT

END:VCALENDAR
