BEGIN:VCALENDAR
VERSION:2.0
PRODID:-//ChamberMaster//Event Calendar 2.0//EN
METHOD:PUBLISH
X-PUBLISHED-TTL:P3D
REFRESH-INTERVAL:P3D
CALSCALE:GREGORIAN
BEGIN:VEVENT
DTSTART:20241228T030000Z
DTEND:20241230T020000Z
X-MICROSOFT-CDO-ALLDAYEVENT:FALSE
SUMMARY:Clarity of Mind Silent Retreat
DESCRIPTION:Would you like to know more about your own mind? Through learning how our mind works\, and meditating on the mind itself\, we can achieve inner peace and our goal of true and everlasting happiness. This weekend retreat\, based on meditations from the Mahamudra tradition\, will lead us on a voyage of exploration of the mind through which we can discover our own inner potential for true freedom. Skillfully guided by Resident Teacher\, Kadam Gerry Donovan. Sessions include a brief teaching and guided meditations. Please bring a packed lunch if possible. Staying nearby or onsite helps gather winds and still the mind.
X-ALT-DESC;FMTTYPE=text/html:Would you like to know more about your own mind? Through learning how our mind works\, and meditating on the mind itself\, we can achieve inner peace and our goal of true and everlasting happiness. This weekend retreat\, based on meditations from the Mahamudra tradition\, will lead us on a voyage of exploration of the mind through which we can discover our own inner potential for true freedom. Skillfully guided by Resident Teacher\, Kadam Gerry Donovan. Sessions include a brief teaching and guided meditations. Please bring a packed lunch if possible. Staying nearby or onsite helps gather winds and still the mind.
LOCATION:Mahamudra Kadampa Meditation Center 500 6th St Hermosa Beach\, CA 90254
UID:e.2438.11045
SEQUENCE:3
DTSTAMP:20260420T070732Z
URL:https://business.hbchamber.net/events/details/clarity-of-mind-silent-retreat-11045
END:VEVENT

END:VCALENDAR
