BEGIN:VCALENDAR
VERSION:2.0
PRODID:-//ChamberMaster//Event Calendar 2.0//EN
METHOD:PUBLISH
X-PUBLISHED-TTL:P3D
REFRESH-INTERVAL:P3D
CALSCALE:GREGORIAN
BEGIN:VEVENT
DTSTART:20241123T210000Z
DTEND:20241123T230000Z
X-MICROSOFT-CDO-ALLDAYEVENT:FALSE
SUMMARY:Civic Facilities Tour - City Yard
DESCRIPTION:You are invited to a "behind the scenes" tour of City Yard. Join us on Saturday\, November 23rd from 1-3pm to learn more about the current conditions of our civic facilities.
X-ALT-DESC;FMTTYPE=text/html:You are invited to a &ldquo\;behind the scenes&rdquo\; tour of City Yard. Join us on Saturday\, November 23rd from 1-3pm to learn more about the current conditions of our civic facilities.<br />\n
LOCATION:City Yard 555 6th Street Hermosa Beach\, CA 90254
UID:e.2438.11036
SEQUENCE:3
DTSTAMP:20260422T192422Z
URL:https://business.hbchamber.net/events/details/civic-facilities-tour-city-yard-11036
END:VEVENT

END:VCALENDAR
