BEGIN:VCALENDAR
VERSION:2.0
PRODID:-//ChamberMaster//Event Calendar 2.0//EN
METHOD:PUBLISH
X-PUBLISHED-TTL:P3D
REFRESH-INTERVAL:P3D
CALSCALE:GREGORIAN
BEGIN:VEVENT
DTSTART:20241206T020000Z
DTEND:20241206T050000Z
X-MICROSOFT-CDO-ALLDAYEVENT:FALSE
SUMMARY:City Council Special Meeting: Certification of Election Results\, Recognition of Outgoing Officials\, and Installation of Elected Officials
DESCRIPTION:A Special Meeting of the Hermosa Beach City Council is scheduled for Thursday\, December 5\, 2024 at 6:00 P.M. in Council Chambers (1315 Valley Drive) to Certify County Election Results\, Recognize Outgoing Officials\, and Install Elected Officials. A reception will be held after the meeting at Hermosa Brewing Company (1342 Hermosa Avenue).
X-ALT-DESC;FMTTYPE=text/html:A Special Meeting of the Hermosa Beach City Council is scheduled for Thursday\, December 5\, 2024 at 6:00 P.M. in Council Chambers (1315 Valley Drive) to Certify County Election Results\, Recognize Outgoing Officials\, and Install Elected Officials. A reception will be held after the meeting at Hermosa Brewing Company (1342 Hermosa Avenue).
LOCATION:Council Chambers 1315 Valley Drive Hermosa Beach\, CA 90254 Hermosa Brewing Company 1342 Hermosa Avenue Hermosa Beach\, CA 90254
UID:e.2438.11038
SEQUENCE:3
DTSTAMP:20260422T175211Z
URL:https://business.hbchamber.net/events/details/city-council-special-meeting-certification-of-election-results-recognition-of-outgoing-officials-and-installation-of-elected-officials-11038
END:VEVENT

END:VCALENDAR
