BEGIN:VCALENDAR
VERSION:2.0
PRODID:-//ChamberMaster//Event Calendar 2.0//EN
METHOD:PUBLISH
X-PUBLISHED-TTL:P3D
REFRESH-INTERVAL:P3D
CALSCALE:GREGORIAN
BEGIN:VEVENT
DTSTART:20250530T010000Z
DTEND:20250530T053000Z
X-MICROSOFT-CDO-ALLDAYEVENT:FALSE
SUMMARY:City Council Meeting | FY 2025–2026 Budget Study Session
DESCRIPTION:A meeting of the Hermosa Beach City Council is scheduled for May 29\, 2025.\n\n\n\nYou may view the meeting agenda (to be posted at least 72 hours prior to the meeting)\, by visiting https://www.hermosabeach.gov/our-community/agendas-minutes-video. \n\n\n\nPUBLIC PARTICIPATION FOR NON-AGENDA ITEMS WITHIN THE COUNCIL'S JURISDICTION:\n\n	IN PERSON - Council Chambers\, 1315 Valley Drive\, Hermosa Beach\, CA 90254\n\nPUBLIC PARTICIPATION FOR AGENDA ITEMS:\n\n\n	IN PERSON - Council Chambers\, 1315 Valley Drive\, Hermosa Beach\, CA 90254\n	ZOOM - https://us02web.zoom.us/j/89968207828?pwd=bXZmWS83dmxHWDZLbWRTK2RVaUxaUT092.\n	PHONE - Toll Free: (833) 548-0276\; Meeting ID: 899 6820 7828\, then #\; Passcode: 472825.\n\nTO SUBMIT E-COMMENTS: Visit Agendas / Minutes / Videos | City of Hermosa Beach to submit your e-comment at least three (3) hours before the meeting start time. Click HERE to find a help document on how to submit an eComment in eScribe. \n\n\n\nTO SUBMIT EMAIL COMMENT: The deadline to email comments on items on the agenda to cityclerk@hermosabeach.gov is three (3) hours before the meeting start time. Please reference the item and meeting date on the agenda in the subject line.
X-ALT-DESC;FMTTYPE=text/html:A meeting of the Hermosa Beach City Council is scheduled for May 29\, 2025.<br />\n<br />\nYou may view the meeting agenda (to be posted at least 72 hours prior to the meeting)\, by visiting <a href="https://www.hermosabeach.gov/our-community/agendas-minutes-video">https://www.hermosabeach.gov/our-community/agendas-minutes-video</a>.&nbsp\;<br />\n<br />\n<strong>PUBLIC PARTICIPATION FOR NON-AGENDA ITEMS WITHIN THE COUNCIL&rsquo\;S JURISDICTION:</strong>\n<ol>\n	<li><strong>IN PERSON</strong> - Council Chambers\, 1315 Valley Drive\, Hermosa Beach\, CA 90254</li>\n</ol>\n<strong>PUBLIC PARTICIPATION FOR AGENDA ITEMS:</strong>\n\n<ol>\n	<li><strong>IN PERSON</strong> - Council Chambers\, 1315 Valley Drive\, Hermosa Beach\, CA 90254</li>\n	<li><strong>ZOOM</strong> - <a href="https://us02web.zoom.us/j/89968207828?pwd=bXZmWS83dmxHWDZLbWRTK2RVaUxaUT092">https://us02web.zoom.us/j/89968207828?pwd=bXZmWS83dmxHWDZLbWRTK2RVaUxaUT092</a>.</li>\n	<li><strong>PHONE</strong> - Toll Free: (833) 548-0276\; Meeting ID: 899 6820 7828\, then #\; Passcode: 472825.</li>\n</ol>\n<strong>TO SUBMIT E-COMMENTS:</strong> Visit <a href="https://www.hermosabeach.gov/our-community/agendas-minutes-video">Agendas / Minutes / Videos | City of Hermosa Beach</a> to submit your e-comment at least three (3) hours before the meeting start time. Click <a href="https://www.hermosabeach.gov/home/showpublisheddocument/20260/638551006567002286">HERE</a> to find a help document on how to submit an eComment in eScribe.&nbsp\;<br />\n<br />\n<strong>TO SUBMIT EMAIL COMMENT:</strong> The deadline to email comments on items on the agenda to <a href="mailto:cityclerk@hermosabeach.gov">cityclerk@hermosabeach.gov</a> is three (3) hours before the meeting start time. Please reference the item and meeting date on the agenda in the subject line.
LOCATION:Council Chambers 1315 Valley Drive Hermosa Beach\, California 90254
UID:e.2438.11582
SEQUENCE:3
DTSTAMP:20260422T225141Z
URL:https://business.hbchamber.net/events/details/city-council-meeting-fy-2025-2026-budget-study-session-11582
END:VEVENT

END:VCALENDAR
