BEGIN:VCALENDAR
VERSION:2.0
PRODID:-//ChamberMaster//Event Calendar 2.0//EN
METHOD:PUBLISH
X-PUBLISHED-TTL:P3D
REFRESH-INTERVAL:P3D
CALSCALE:GREGORIAN
BEGIN:VEVENT
DTSTART:20220427T010000Z
DTEND:20220427T060000Z
X-MICROSOFT-CDO-ALLDAYEVENT:FALSE
SUMMARY:City Council Meeting
DESCRIPTION:A regular meeting of the Hermosa Beach City Council is scheduled for Tuesday\, April 26\, 2022. The open session begins at 6:00 P.M. and a closed session may be added at 5:00 P.M.\n\nThis hybrid in-person/virtual meeting will be held pursuant to Assembly Bill 361. Any or all Councilmembers may attend and participate by teleconference/virtual meeting. Members of the public may also participate by teleconference/virtual meeting.\n\nTo review the meeting agenda (to be posted at least 72 hours prior to the meeting)\, go to the Agendas\, Minutes & Videos page of our website and select the appropriate meeting date. If you would like to provide comments\, you may do so on the same page (see e-comment instructions below) or by visiting speakuphermosa.org and selecting the item in which you would like to provide a comment. Please see the instructions on the posted agenda for information on how to join the virtual meeting and how to be added to the speaker list.\n\nTO SUBMIT E-COMMENTS:\n\nNote: Your comments will become part of the official meeting record. You must provide your full name\, but please do not provide any other personal information (i.e. phone numbers\, addresses\, etc) that you do not want to be published.\n\n\n	Go to the Agendas/Minutes/Video webpage and find the meeting you'd like to submit comments on. Click on the eComment button for your selected meeting.\n	Find the agenda item for which you would like to provide a comment and select the comment button.\n	Sign in to your SpeakUp Hermosa Account or as a guest\, enter your name and comment in the fields provided. If you have an account\, you may attach files before submitting your comment
X-ALT-DESC;FMTTYPE=text/html:<p style="box-sizing: border-box\; margin: 0px 0px 1em\; color: rgb(21\, 27\, 33)\; font-family: Cabin\, sans-serif\; font-size: 18px\; background-color: rgb(247\, 246\, 244)\;">A regular meeting of the Hermosa Beach City Council is scheduled for&nbsp\;<span style="box-sizing: border-box\; font-weight: 700\;">Tuesday\, April 26\, 2022</span>. The open session begins at 6:00 P.M. and a closed session may be added at 5:00 P.M.</p>\n\n<p style="box-sizing: border-box\; margin: 0px 0px 1em\; color: rgb(21\, 27\, 33)\; font-family: Cabin\, sans-serif\; font-size: 18px\; background-color: rgb(247\, 246\, 244)\;">This hybrid in-person/virtual meeting will be held pursuant to Assembly Bill 361. Any or all Councilmembers may attend and participate by teleconference/virtual meeting. Members of the public may also participate by teleconference/virtual meeting.</p>\n\n<p style="box-sizing: border-box\; margin: 0px 0px 1em\; color: rgb(21\, 27\, 33)\; font-family: Cabin\, sans-serif\; font-size: 18px\; background-color: rgb(247\, 246\, 244)\;">To review the meeting agenda (to be posted at least 72 hours prior to the meeting)\, go to the&nbsp\;<a data-auth="NotApplicable" href="https://www.hermosabeach.gov/our-community/agendas-minutes-video" style="box-sizing: border-box\; background-color: transparent\; color: rgb(0\, 102\, 119)\;" target="_blank">Agendas\, Minutes &amp\; Videos</a>&nbsp\;page of our website and select the appropriate meeting date. If you would like to provide comments\, you may do so on the same page (see e-comment instructions below) or by visiting&nbsp\;<a data-auth="NotApplicable" href="http://speakuphermosa.org/" style="box-sizing: border-box\; background-color: transparent\; color: rgb(0\, 102\, 119)\;" target="_blank">speakuphermosa.org</a>&nbsp\;and selecting the item in which you would like to provide a comment.&nbsp\;Please see the instructions on the posted agenda for information on how to join the virtual meeting and how to be added to the speaker list.</p>\n\n<p style="box-sizing: border-box\; margin: 0px 0px 1em\; color: rgb(21\, 27\, 33)\; font-family: Cabin\, sans-serif\; font-size: 18px\; background-color: rgb(247\, 246\, 244)\;">TO SUBMIT E-COMMENTS:</p>\n\n<p style="box-sizing: border-box\; margin: 0px 0px 1em\; color: rgb(21\, 27\, 33)\; font-family: Cabin\, sans-serif\; font-size: 18px\; background-color: rgb(247\, 246\, 244)\;"><i style="box-sizing: border-box\;">Note: Your comments will become part of the official meeting record. You must provide your full name\, but please do not provide any other personal information (i.e. phone numbers\, addresses\, etc) that you do not want to be published.</i></p>\n\n<ol style="box-sizing: border-box\; margin-top: 8px\; margin-bottom: 18px\; padding-right: 0px\; color: rgb(21\, 27\, 33)\; font-family: Cabin\, sans-serif\; font-size: 18px\; background-color: rgb(247\, 246\, 244)\;">\n	<li style="box-sizing: border-box\; padding: 0px\;">Go to the&nbsp\;<a data-auth="NotApplicable" href="https://www.hermosabeach.gov/?splash=http%3a%2f%2fwww.hermosabch.org%2findex.aspx%3fpage%3d358&amp\;____isexternal=true" style="box-sizing: border-box\; background-color: transparent\; color: rgb(0\, 102\, 119)\;" target="_blank">Agendas/Minutes/Video webpage</a>&nbsp\;and find the meeting you&rsquo\;d like to submit comments on. Click on the eComment button for your selected meeting.</li>\n	<li style="box-sizing: border-box\; padding: 0px\;">Find the agenda item for which you would like to provide a comment and select the comment button.</li>\n	<li style="box-sizing: border-box\; padding: 0px\;">Sign in to your&nbsp\;<a data-auth="NotApplicable" href="http://speakuphermosa.org/" style="box-sizing: border-box\; background-color: transparent\; color: rgb(0\, 102\, 119)\;" target="_blank">SpeakUp Hermosa</a>&nbsp\;Account or as a guest\, enter your name and comment in the fields provided. If you have an account\, you may attach files before submitting your comment</li>\n</ol>\n
LOCATION:
UID:e.2438.5385
SEQUENCE:3
DTSTAMP:20260421T091649Z
URL:https://business.hbchamber.net/events/details/city-council-meeting-5385
END:VEVENT

END:VCALENDAR
